BEGIN:VCALENDAR
VERSION:2.0
PRODID:-//Osservatorio Sisma - ECPv6.0.10//NONSGML v1.0//EN
CALSCALE:GREGORIAN
METHOD:PUBLISH
X-WR-CALNAME:Osservatorio Sisma
X-ORIGINAL-URL:https://osservatoriosisma.it
X-WR-CALDESC:Eventi per Osservatorio Sisma
REFRESH-INTERVAL;VALUE=DURATION:PT1H
X-Robots-Tag:noindex
X-PUBLISHED-TTL:PT1H
BEGIN:VTIMEZONE
TZID:Europe/Rome
BEGIN:DAYLIGHT
TZOFFSETFROM:+0100
TZOFFSETTO:+0200
TZNAME:CEST
DTSTART:20170326T010000
END:DAYLIGHT
BEGIN:STANDARD
TZOFFSETFROM:+0200
TZOFFSETTO:+0100
TZNAME:CET
DTSTART:20171029T010000
END:STANDARD
BEGIN:DAYLIGHT
TZOFFSETFROM:+0100
TZOFFSETTO:+0200
TZNAME:CEST
DTSTART:20180325T010000
END:DAYLIGHT
BEGIN:STANDARD
TZOFFSETFROM:+0200
TZOFFSETTO:+0100
TZNAME:CET
DTSTART:20181028T010000
END:STANDARD
END:VTIMEZONE
BEGIN:VEVENT
DTSTART;VALUE=DATE:20180510
DTEND;VALUE=DATE:20180621
DTSTAMP:20260421T005601
CREATED:20180511T094136Z
LAST-MODIFIED:20180511T094852Z
UID:3403-1525910400-1529539199@osservatoriosisma.it
SUMMARY:"Oltre il sisma\, la carovana dell'arte salvata". Mostra fotografica
DESCRIPTION:
URL:https://osservatoriosisma.it/evento/oltre-il-sisma-la-carovana-dellarte-salvata-mostra-fotografica/
LOCATION:Polo didattico “L.Bertelli”\, Piazzale Bertelli\, 1\, macerata\, 62100\, Italia
END:VEVENT
BEGIN:VEVENT
DTSTART;VALUE=DATE:20180222
DTEND;VALUE=DATE:20180223
DTSTAMP:20260421T005601
CREATED:20180219T104529Z
LAST-MODIFIED:20180219T104703Z
UID:3353-1519257600-1519343999@osservatoriosisma.it
SUMMARY:Fillea-CGIL riunisce i propri Direttivi regionali a Tolentino il 22 febbraio 2018
DESCRIPTION:La Fillea-CGIL delle regioni del Cratere del Sisma 2016 – 2017\,  si riunisce a Tolentino il prossimo 22 febbraio. L’Obiettivo dell’iniziativa è  fare il punto sulla ricostruzione e su una serie di questioni a partire dalla firma dell’accordo sul DURC avvenuta lo scorso 7 febbraio. \nAll’incontro parteciperanno tra gli altri  l’onorevole Paola De Micheli\, Commissario straordinario per la Ricostruzione e Giovanna Fracassi\, Segretaria nazionale della CGIL. La discussione sarà introdotta dal Segretario generale della Fillea-CGIL Alessandro Genovesi. \nscarica il programma
URL:https://osservatoriosisma.it/evento/fillea-cgil-riunisce-i-propri-direttivi-regionali-a-tolentino-il-22-febbraio-2018/
LOCATION:Tolentino (MC)\, Auditorium Cosmari\, Italia
ATTACH;FMTTYPE=image/jpeg:https://osservatoriosisma.it/wp-content/uploads/2018/02/Programma-Direttivi-Congiunti-Tolentino.jpg
END:VEVENT
BEGIN:VEVENT
DTSTART;VALUE=DATE:20171109
DTEND;VALUE=DATE:20171110
DTSTAMP:20260421T005601
CREATED:20171106T142730Z
LAST-MODIFIED:20171106T144330Z
UID:3271-1510185600-1510271999@osservatoriosisma.it
SUMMARY:La gestione dei rifiuti da terremoto
DESCRIPTION:Il seminario affronterà in particolare uno degli effetti collaterali dei terremoti: la produzione di grandi quantità di rifiuti. I rifiuti non possono essere riciclati senza una preventiva separazione dei flussi più importanti dalla massa principale. Procedure di emergenza\, difficoltà logistiche e la necessità di operare in tempi brevi portano solitamente ad una gestione scorretta dei diversi tipi di rifiuti e a percentuali di riciclaggio estremamente basse. Le macerie da terremoto dovrebbero essere trattate in loco per ridurre i costi di trasporto e per creare opportunità di lavoro che permettano di mantenere lo stesso livello di occupazione pre-evento. Spesso però la logistica non consente soluzioni efficaci. Saranno pertanto affrontate questioni amministrative e tecniche per fornire linee guida sulla gestione delle macerie da terremoto. Saranno inoltre illustrate best practice. \nOre 9.30 – 13.00 Ecomondo – Rimini Fiera – Padiglione C3 – Sala Gemini \nscarica il programma
URL:https://osservatoriosisma.it/evento/la-gestione-dei-rifiuti-da-terremoto/
LOCATION:Fiera Ecomondo\, Rimini\, Rimini Fiera padiglione G3\, Rimini\, Italia
ATTACH;FMTTYPE=image/jpeg:https://osservatoriosisma.it/wp-content/uploads/2017/11/gestione-macerie-dopo-terremoto.jpg
END:VEVENT
BEGIN:VEVENT
DTSTART;TZID=Europe/Rome:20170527T093000
DTEND;TZID=Europe/Rome:20170527T093000
DTSTAMP:20260421T005601
CREATED:20170519T080510Z
LAST-MODIFIED:20170519T082018Z
UID:3072-1495877400-1495877400@osservatoriosisma.it
SUMMARY:Macerie nel cratere\, la gestione sostenibile
DESCRIPTION:scarica il programma dell’incontro
URL:https://osservatoriosisma.it/evento/macerie-nel-cratere-la-gestione-sostenibile/
LOCATION:Tolentino (MC)\, Auditorium Cosmari\, Italia
ATTACH;FMTTYPE=image/jpeg:https://osservatoriosisma.it/wp-content/uploads/2017/05/Invito_convegno_Macerie_Ance_DEF_immagine.jpg
END:VEVENT
BEGIN:VEVENT
DTSTART;TZID=Europe/Rome:20170429T103000
DTEND;TZID=Europe/Rome:20170429T140000
DTSTAMP:20260421T005601
CREATED:20170426T143154Z
LAST-MODIFIED:20170428T165234Z
UID:2857-1493461800-1493474400@osservatoriosisma.it
SUMMARY:Ripartiamo
DESCRIPTION:Ore 10\,30 – Tendone Protezione Civile \nPresentazione Osservatorio Nazionale per una Ricostruzione di Qualità\nSaranno presenti: \n\nMario Baroni\, Sindaco di Muccia;\nRossella Muroni\, Presidente Nazionale Legambiente;\nAlessandro Genovesi\, Segretario Generale Fillea-CGIL;\nGianna Fracassi\, Segretaria Nazionale CGIL;\n\n  \n  \nOre 12\,00 Struttura mobile Fillea/Filcams \nInaugurazione “Casetta: ripartiamo dal territorio” Sede polifunzionale Osservatorio\, Filcams Cgil\, Fillea Cgil\nSaranno presenti: \n\nRossella Muroni\, Presidente Nazionale Legambiente;\nAlessandro Genovesi\, Segretario Generale Fillea-CGIL;\nGianna Fracassi\, Segretaria Nazionale CGIL;\n\n  \n 
URL:https://osservatoriosisma.it/evento/ripartiamo/
LOCATION:Muccia\, Muccia\, Italia
ATTACH;FMTTYPE=image/jpeg:https://osservatoriosisma.it/wp-content/uploads/2017/04/casetta_muccia.jpg
END:VEVENT
END:VCALENDAR